BEGIN:VCALENDAR
VERSION:2.0
PRODID:-//fyc.dk - ECPv6.15.14//NONSGML v1.0//EN
CALSCALE:GREGORIAN
METHOD:PUBLISH
X-WR-CALNAME:fyc.dk
X-ORIGINAL-URL:https://www.fyc.dk
X-WR-CALDESC:Begivenheder for fyc.dk
REFRESH-INTERVAL;VALUE=DURATION:PT1H
X-Robots-Tag:noindex
X-PUBLISHED-TTL:PT1H
BEGIN:VTIMEZONE
TZID:Europe/Copenhagen
BEGIN:DAYLIGHT
TZOFFSETFROM:+0100
TZOFFSETTO:+0200
TZNAME:CEST
DTSTART:20230326T010000
END:DAYLIGHT
BEGIN:STANDARD
TZOFFSETFROM:+0200
TZOFFSETTO:+0100
TZNAME:CET
DTSTART:20231029T010000
END:STANDARD
BEGIN:DAYLIGHT
TZOFFSETFROM:+0100
TZOFFSETTO:+0200
TZNAME:CEST
DTSTART:20240331T010000
END:DAYLIGHT
BEGIN:STANDARD
TZOFFSETFROM:+0200
TZOFFSETTO:+0100
TZNAME:CET
DTSTART:20241027T010000
END:STANDARD
BEGIN:DAYLIGHT
TZOFFSETFROM:+0100
TZOFFSETTO:+0200
TZNAME:CEST
DTSTART:20250330T010000
END:DAYLIGHT
BEGIN:STANDARD
TZOFFSETFROM:+0200
TZOFFSETTO:+0100
TZNAME:CET
DTSTART:20251026T010000
END:STANDARD
END:VTIMEZONE
BEGIN:VEVENT
DTSTART;TZID=Europe/Copenhagen:20241128T180000
DTEND;TZID=Europe/Copenhagen:20241128T210000
DTSTAMP:20260421T122857
CREATED:20240623T095136Z
LAST-MODIFIED:20241118T102623Z
UID:5309-1732816800-1732827600@www.fyc.dk
SUMMARY:Aftensymposium: Vejen til TAVI-klap
DESCRIPTION:FYC’s uddannelsesudvalg syd inviterer jer til et aftensymposium\, hvor vi følger patientens vej til  en TAVI. Glæd dig til en dag med masser af teori og overvejelser\, der ligger bag med kontrol EKKO\, hjerteCT\, klapkonference og angiografisk gennemgang af TAVI-procedure  \nDato: Torsdag 28. november 2024 kl. 18:00-21:00 \nSted: Odense Universitetshospitals konferencesal\, 2.sal \nUndervisere: Rasmus Carter-Storch afdelingslæge ph.d OUH\, Henrik Hansson afdelingslæge ph.d OUH og Henrik Nissen overlæge ph.d OUH  \nTilmeldingsfrist d. 25/11/2025 \nProgram oversigt: \n18:00-18:15: Velkommen \n18:15-19:00: Klapsygdomme og klapkonference (Rasmus Carter-Storch) \n19:00-19:30: Spisepause (sandwich\, drikkevarer & snacks) \n19:30-20:00: TAVI-CT og Hjerte-CT (Henrik Hansson) \n20:00-21:00: TAVI-proceduren og komplikationer (Henrik Nissen) \nVirtuel deltagelse: Gratis for FYC medlemmer\, ikke-FYC medlemmer: 5 kr; ubegrænset antal pladser.  \nFysisk deltagelse: Gratis for FYC medlemmer\, ikke-FYC medlemmer: 100kr (betaling via www.fyc.dk)
URL:https://www.fyc.dk/begivenhed/aftensymposium-tavi-save-the-date/
LOCATION:Odense Universitetshospital\, J. B. Winsløws Vej 4\, Odense\, 5000\, Danmark
ORGANIZER;CN="FYC - Uddannelsesudvalg Syd":MAILTO:udvalgsyd@fyc.dk
END:VEVENT
END:VCALENDAR